BEGIN:VCALENDAR
VERSION:2.0
PRODID:-//Volleybalvereniging Dalen - ECPv6.15.16//NONSGML v1.0//EN
CALSCALE:GREGORIAN
METHOD:PUBLISH
X-ORIGINAL-URL:https://volleybaldalen.nl
X-WR-CALDESC:Evenementen voor Volleybalvereniging Dalen
REFRESH-INTERVAL;VALUE=DURATION:PT1H
X-Robots-Tag:noindex
X-PUBLISHED-TTL:PT1H
BEGIN:VTIMEZONE
TZID:Europe/Amsterdam
BEGIN:DAYLIGHT
TZOFFSETFROM:+0100
TZOFFSETTO:+0200
TZNAME:CEST
DTSTART:20210328T010000
END:DAYLIGHT
BEGIN:STANDARD
TZOFFSETFROM:+0200
TZOFFSETTO:+0100
TZNAME:CET
DTSTART:20211031T010000
END:STANDARD
BEGIN:DAYLIGHT
TZOFFSETFROM:+0100
TZOFFSETTO:+0200
TZNAME:CEST
DTSTART:20220327T010000
END:DAYLIGHT
BEGIN:STANDARD
TZOFFSETFROM:+0200
TZOFFSETTO:+0100
TZNAME:CET
DTSTART:20221030T010000
END:STANDARD
BEGIN:DAYLIGHT
TZOFFSETFROM:+0100
TZOFFSETTO:+0200
TZNAME:CEST
DTSTART:20230326T010000
END:DAYLIGHT
BEGIN:STANDARD
TZOFFSETFROM:+0200
TZOFFSETTO:+0100
TZNAME:CET
DTSTART:20231029T010000
END:STANDARD
END:VTIMEZONE
BEGIN:VEVENT
DTSTART;VALUE=DATE:20220905
DTEND;VALUE=DATE:20220928
DTSTAMP:20260423T074834
CREATED:20220913T181110Z
LAST-MODIFIED:20220913T181129Z
UID:5908-1662336000-1664323199@volleybaldalen.nl
SUMMARY:Rabo Clubsupport 2022
DESCRIPTION:Vanaf 5 september is het weer zover en kunnen de leden van de Rabobank weer stemmen tot en met 27 september. Met de Rabo Clubsupport kun je eenmalig je stem uitbrengen\, maar moet je wel lid worden/zijn van de Rabobank.\n \nHoe wordt je nou lid?\n– Als klant van de Rabobank kun je gratis lid worden en dit kan gemakkelijk via de Rabobank app.\n– Op de app inloggen\, dan ga je naar service.\n– Scroll naar onderen en staat lidmaatschap. Daar klik je op en dan op ik doe mee! Zo kun je stemmen\, maar ook allemaal andere leuke kortingen krijgen via de Rabobank.\n \nVoor de Volleybal Vereniging willen wij het liefst zoveel mogelijk stemmen verzamelen en daarmee mooie dingen doen binnen de vereniging.\nDenk hierbij bijvoorbeeld aan:\n– Investeren in de beach velden: onderhoud van de palen / netten.\n– Nieuwe ballen karren en/of andere materialen.\n– En verschillende activiteiten voor zowel senioren als mini’s.\n \nDus word lid en stem op Volleybal Vereniging Dalen!
URL:https://volleybaldalen.nl/agenda/5908/
END:VEVENT
END:VCALENDAR