BEGIN:VCALENDAR
VERSION:2.0
PRODID:-//Volleybalvereniging Dalen - ECPv6.15.16//NONSGML v1.0//EN
CALSCALE:GREGORIAN
METHOD:PUBLISH
X-WR-CALNAME:Volleybalvereniging Dalen
X-ORIGINAL-URL:https://volleybaldalen.nl
X-WR-CALDESC:Evenementen voor Volleybalvereniging Dalen
REFRESH-INTERVAL;VALUE=DURATION:PT1H
X-Robots-Tag:noindex
X-PUBLISHED-TTL:PT1H
BEGIN:VTIMEZONE
TZID:Europe/Amsterdam
BEGIN:DAYLIGHT
TZOFFSETFROM:+0100
TZOFFSETTO:+0200
TZNAME:CEST
DTSTART:20210328T010000
END:DAYLIGHT
BEGIN:STANDARD
TZOFFSETFROM:+0200
TZOFFSETTO:+0100
TZNAME:CET
DTSTART:20211031T010000
END:STANDARD
BEGIN:DAYLIGHT
TZOFFSETFROM:+0100
TZOFFSETTO:+0200
TZNAME:CEST
DTSTART:20220327T010000
END:DAYLIGHT
BEGIN:STANDARD
TZOFFSETFROM:+0200
TZOFFSETTO:+0100
TZNAME:CET
DTSTART:20221030T010000
END:STANDARD
BEGIN:DAYLIGHT
TZOFFSETFROM:+0100
TZOFFSETTO:+0200
TZNAME:CEST
DTSTART:20230326T010000
END:DAYLIGHT
BEGIN:STANDARD
TZOFFSETFROM:+0200
TZOFFSETTO:+0100
TZNAME:CET
DTSTART:20231029T010000
END:STANDARD
BEGIN:DAYLIGHT
TZOFFSETFROM:+0100
TZOFFSETTO:+0200
TZNAME:CEST
DTSTART:20240331T010000
END:DAYLIGHT
BEGIN:STANDARD
TZOFFSETFROM:+0200
TZOFFSETTO:+0100
TZNAME:CET
DTSTART:20241027T010000
END:STANDARD
END:VTIMEZONE
BEGIN:VEVENT
DTSTART;VALUE=DATE:20230930
DTEND;VALUE=DATE:20231001
DTSTAMP:20260423T030119
CREATED:20230721T095652Z
LAST-MODIFIED:20230924T092447Z
UID:6480-1696032000-1696118399@volleybaldalen.nl
SUMMARY:Presentatie wedstrijdkleding
DESCRIPTION:30 september is het weer zover\nwij als volleybalvereniging Dalen spelen dan weer onze eerste thuiswedstrijden in de sporthal ‘T Grootveld in Dalen.\nKom jij ook gezellig kijken bij onze top teams?!\npsssstt… de kantine is ook open voor drinken en wat te eten.\nDeze dag zal er ook een sponsordag zijn voor al onze sponsoren van de volleybalvereniging Dalen dus de sporthal en de kantine zijn ook fantastich aangekleed met versiering.\n\n\nVoor onze sponsoren hebben we een presentje en voor hun staat er ook een hapje en een drankje klaar\n\n\nWe kijken als Volleybalvereniging Dalen erg naar dit seizoen uit!
URL:https://volleybaldalen.nl/agenda/presentatie-wedstrijdkleding/
END:VEVENT
BEGIN:VEVENT
DTSTART;VALUE=DATE:20230915
DTEND;VALUE=DATE:20230925
DTSTAMP:20260423T030119
CREATED:20230207T193910Z
LAST-MODIFIED:20230207T193910Z
UID:6117-1694736000-1695599999@volleybaldalen.nl
SUMMARY:NOC*NSF Nationale Sportweek 2023
DESCRIPTION:
URL:https://volleybaldalen.nl/agenda/nocnsf-nationale-sportweek-2023/
END:VEVENT
BEGIN:VEVENT
DTSTART;VALUE=DATE:20230904
DTEND;VALUE=DATE:20230927
DTSTAMP:20260423T030119
CREATED:20230725T182315Z
LAST-MODIFIED:20230725T182315Z
UID:6485-1693785600-1695772799@volleybaldalen.nl
SUMMARY:Rabo ClubSupport 2023
DESCRIPTION:Vanaf 4 september is het weer zover en kunnen de leden van de Rabobank weer stemmen tot en met 26 september. Met de Rabo Clubsupport kun je eenmalig je stem uitbrengen\, maar moet je wel lid worden/zijn van de Rabobank.\n\n \n\nHoe wordt je nou lid?\n\n \n\n– Als klant van de Rabobank kun je gratis lid worden en dit kan gemakkelijk via de Rabobank app.\n– Op de app inloggen\, dan ga je naar service.\n– Scroll naar onderen en staat lidmaatschap. Daar klik je op en dan op ik doe mee! Zo kun je stemmen\, maar ook allemaal andere leuke kortingen krijgen via de Rabobank.\n\n \n\nVoor de Volleybal Vereniging willen wij het liefst zoveel mogelijk stemmen verzamelen en daarmee mooie dingen doen binnen de vereniging.\n\n \n\nDenk hierbij bijvoorbeeld aan:\n– Diverse activiteiten voor zowel senioren als mini’s.\n– Aanschaf extra materialen.\n\n \n\nDus word lid en stem vanaf 4 september op Volleybal Vereniging Dalen via de Rabo App of raboclubsupport.nl!\n\n \n\nhttps://www.youtube.com/watch?v=hEWT80qC8TI&ab_channel=Rabobank
URL:https://volleybaldalen.nl/agenda/rabo-clubsupport-2023/
LOCATION:Online
END:VEVENT
BEGIN:VEVENT
DTSTART;TZID=Europe/Amsterdam:20230623T163000
DTEND;TZID=Europe/Amsterdam:20230623T193000
DTSTAMP:20260423T030119
CREATED:20230518T074318Z
LAST-MODIFIED:20230518T074318Z
UID:6410-1687537800-1687548600@volleybaldalen.nl
SUMMARY:Inlooptraining Volleybalvereniging Dalen
DESCRIPTION:Wil je ook volleyballen bij een actieve sportvereniging waar veel voor jeugd georganiseerd wordt? \nKom het spelletje vooral ervaren tijdens de inlooptrainingen van Volleybalvereniging Dalen. \nHopelijk tot snel! \n16:30 t/m 17:30:  groep 2 t/m 5 zaal 3\n18:00 t/m 19:30: vanaf groep 6 zaal 3 \nLocatie: Sportpark t’ Grootveld
URL:https://volleybaldalen.nl/agenda/inlooptraining-volleybalvereniging-dalen-5/
LOCATION:Sporthal Sportpark ’t Grootveld\, Dalerveensestraat 30b\, Dalen\, Drenthe\, 7751ZT\, Nederland
END:VEVENT
BEGIN:VEVENT
DTSTART;TZID=Europe/Amsterdam:20230616T163000
DTEND;TZID=Europe/Amsterdam:20230616T193000
DTSTAMP:20260423T030119
CREATED:20230518T074233Z
LAST-MODIFIED:20230518T074233Z
UID:6409-1686933000-1686943800@volleybaldalen.nl
SUMMARY:Inlooptraining Volleybalvereniging Dalen
DESCRIPTION:Wil je ook volleyballen bij een actieve sportvereniging waar veel voor jeugd georganiseerd wordt? \nKom het spelletje vooral ervaren tijdens de inlooptrainingen van Volleybalvereniging Dalen. \nHopelijk tot snel! \n16:30 t/m 17:30:  groep 2 t/m 5 zaal 3\n18:00 t/m 19:30: vanaf groep 6 zaal 3 \nLocatie: Sportpark t’ Grootveld
URL:https://volleybaldalen.nl/agenda/inlooptraining-volleybalvereniging-dalen-4/
LOCATION:Sporthal Sportpark ’t Grootveld\, Dalerveensestraat 30b\, Dalen\, Drenthe\, 7751ZT\, Nederland
END:VEVENT
BEGIN:VEVENT
DTSTART;TZID=Europe/Amsterdam:20230610T123000
DTEND;TZID=Europe/Amsterdam:20230610T220000
DTSTAMP:20260423T030119
CREATED:20230414T070012Z
LAST-MODIFIED:20230414T070357Z
UID:5932-1686400200-1686434400@volleybaldalen.nl
SUMMARY:Opening Beachvelden 10 juni 2023
DESCRIPTION:
URL:https://volleybaldalen.nl/agenda/opening-beachvelden-2023/
LOCATION:Sporthal Sportpark ’t Grootveld\, Dalerveensestraat 30b\, Dalen\, Drenthe\, 7751ZT\, Nederland
END:VEVENT
BEGIN:VEVENT
DTSTART;TZID=Europe/Amsterdam:20230609T163000
DTEND;TZID=Europe/Amsterdam:20230609T193000
DTSTAMP:20260423T030119
CREATED:20230518T074125Z
LAST-MODIFIED:20230518T074125Z
UID:6406-1686328200-1686339000@volleybaldalen.nl
SUMMARY:Inlooptraining Volleybalvereniging Dalen
DESCRIPTION:Wil je ook volleyballen bij een actieve sportvereniging waar veel voor jeugd georganiseerd wordt? \nKom het spelletje vooral ervaren tijdens de inlooptrainingen van Volleybalvereniging Dalen. \nHopelijk tot snel! \n16:30 t/m 17:30:  groep 2 t/m 5 zaal 3\n18:00 t/m 19:30: vanaf groep 6 zaal 3 \nLocatie: Sportpark t’ Grootveld
URL:https://volleybaldalen.nl/agenda/inlooptraining-volleybalvereniging-dalen-3/
LOCATION:Sporthal Sportpark ’t Grootveld\, Dalerveensestraat 30b\, Dalen\, Drenthe\, 7751ZT\, Nederland
END:VEVENT
BEGIN:VEVENT
DTSTART;TZID=Europe/Amsterdam:20230602T163000
DTEND;TZID=Europe/Amsterdam:20230602T193000
DTSTAMP:20260423T030119
CREATED:20230518T074118Z
LAST-MODIFIED:20230518T074118Z
UID:6405-1685723400-1685734200@volleybaldalen.nl
SUMMARY:Inlooptraining Volleybalvereniging Dalen
DESCRIPTION:Wil je ook volleyballen bij een actieve sportvereniging waar veel voor jeugd georganiseerd wordt? \nKom het spelletje vooral ervaren tijdens de inlooptrainingen van Volleybalvereniging Dalen. \nHopelijk tot snel! \n16:30 t/m 17:30:  groep 2 t/m 5 zaal 3\n18:00 t/m 19:30: vanaf groep 6 zaal 3 \nLocatie: Sportpark t’ Grootveld
URL:https://volleybaldalen.nl/agenda/inlooptraining-volleybalvereniging-dalen-2/
LOCATION:Sporthal Sportpark ’t Grootveld\, Dalerveensestraat 30b\, Dalen\, Drenthe\, 7751ZT\, Nederland
END:VEVENT
BEGIN:VEVENT
DTSTART;TZID=Europe/Amsterdam:20230528T090000
DTEND;TZID=Europe/Amsterdam:20230528T130000
DTSTAMP:20260423T030119
CREATED:20220913T181416Z
LAST-MODIFIED:20230519T080602Z
UID:5916-1685264400-1685278800@volleybaldalen.nl
SUMMARY:RopaRun 2023
DESCRIPTION:Op zondag 28 mei tussen 9.00 en 13.00 uur vindt de doorkomst van de RopaRun 2023 in Dalen plaats. En dit keer is de doorkomst op ons mooie sportpark. Diverse verenigingen zetten een activiteit neer om de doorkomst extra feestelijk en sportief te maken \nJe kunt op deze dag deelnemen aan de leuke sporten en spelletjes die door de verenigingen worden georganiseerd. Ook is er muziek\, kortom het belooft een leuke en sportieve ochtend te worden. \nMeer weten ? kijk op de site van: SamenDalen of de Turfrunners
URL:https://volleybaldalen.nl/agenda/roparun-2023/
LOCATION:Sporthal Sportpark ’t Grootveld\, Dalerveensestraat 30b\, Dalen\, Drenthe\, 7751ZT\, Nederland
END:VEVENT
BEGIN:VEVENT
DTSTART;TZID=Europe/Amsterdam:20230526T163000
DTEND;TZID=Europe/Amsterdam:20230526T193000
DTSTAMP:20260423T030119
CREATED:20230518T073658Z
LAST-MODIFIED:20230518T073838Z
UID:6400-1685118600-1685129400@volleybaldalen.nl
SUMMARY:Inlooptraining Volleybalvereniging Dalen
DESCRIPTION:Wil je ook volleyballen bij een actieve sportvereniging waar veel voor jeugd georganiseerd wordt? \nKom het spelletje vooral ervaren tijdens de inlooptrainingen van Volleybalvereniging Dalen. \nHopelijk tot snel! \n16:30 t/m 17:30:  groep 2 t/m 5 zaal 3\n18:00 t/m 19:30: vanaf groep 6 zaal 3 \nLocatie: Sportpark t’ Grootveld
URL:https://volleybaldalen.nl/agenda/inlooptraining-volleybalvereniging-dalen/
LOCATION:Sporthal Sportpark ’t Grootveld\, Dalerveensestraat 30b\, Dalen\, Drenthe\, 7751ZT\, Nederland
END:VEVENT
BEGIN:VEVENT
DTSTART;VALUE=DATE:20230512
DTEND;VALUE=DATE:20230514
DTSTAMP:20260423T030119
CREATED:20230308T175234Z
LAST-MODIFIED:20230414T070252Z
UID:6119-1683849600-1684022399@volleybaldalen.nl
SUMMARY:Volleybalkamp 2023
DESCRIPTION:Aan alle leden\, ouders en verzorgers van de mini’s en de C’s van Volleybalvereniging Dalen.\nHet is weer zover: VOLLEYBALKAMP !\n\nDit jaar organiseert de EC een volleybalkamp voor al hun mini’s en het C-team.\nHet belooft een leuk weekend te worden met leuke volleybalspellen\, lekker eten\, bingo en nog veel meer leuke activiteiten.\nDit jaar houden we het kamp op 12 en 13 mei.\n\nWij hebben er in ieder geval al veel zin in en hopen op een leuk weekend!
URL:https://volleybaldalen.nl/agenda/jeugdkamp-seizoen-2022-2023/
LOCATION:Sporthal Sportpark ’t Grootveld\, Dalerveensestraat 30b\, Dalen\, Drenthe\, 7751ZT\, Nederland
END:VEVENT
BEGIN:VEVENT
DTSTART;VALUE=DATE:20230421
DTEND;VALUE=DATE:20230422
DTSTAMP:20260423T030119
CREATED:20230207T193734Z
LAST-MODIFIED:20230207T193734Z
UID:6115-1682035200-1682121599@volleybaldalen.nl
SUMMARY:Koningsspelen 2023
DESCRIPTION:
URL:https://volleybaldalen.nl/agenda/koningsspelen-2023/
END:VEVENT
BEGIN:VEVENT
DTSTART;TZID=Europe/Amsterdam:20230418T180000
DTEND;TZID=Europe/Amsterdam:20230418T210000
DTSTAMP:20260423T030119
CREATED:20220913T181458Z
LAST-MODIFIED:20230404T172711Z
UID:5918-1681840800-1681851600@volleybaldalen.nl
SUMMARY:Stroopwafelactie 2023
DESCRIPTION:❗️Attentie Attentie ❗️ \nDinsdag 18 april 2023 is het weer zover\, de jaarlijkse stroopwafelactie van de Volleybalvereniging Dalen. 🏐\nDeze avond vanaf 18u komen de leden van de volleybal bij u langs in en rondom Dalen met overheerlijke stroopwafels (deurverkoop)! \n1 pakje voor €3\,-\, 2 pakjes voor €5\,50 en 4 voor €10\,-!🍪 \n💰 Contant- en pinbetalingen zijn mogelijk. \n 
URL:https://volleybaldalen.nl/agenda/stroopwafelactie-2023/
END:VEVENT
BEGIN:VEVENT
DTSTART;TZID=Europe/Amsterdam:20230401T203000
DTEND;TZID=Europe/Amsterdam:20230402T010000
DTSTAMP:20260423T030119
CREATED:20220926T123804Z
LAST-MODIFIED:20230319T091557Z
UID:5930-1680381000-1680397200@volleybaldalen.nl
SUMMARY:Seizoensafsluiting seizoen 2022-2023
DESCRIPTION:
URL:https://volleybaldalen.nl/agenda/eindfeest-seizoen-2022-2023/
LOCATION:Sporthal Sportpark ’t Grootveld\, Dalerveensestraat 30b\, Dalen\, Drenthe\, 7751ZT\, Nederland
END:VEVENT
BEGIN:VEVENT
DTSTART;VALUE=DATE:20230318
DTEND;VALUE=DATE:20230319
DTSTAMP:20260423T030119
CREATED:20220913T181324Z
LAST-MODIFIED:20220913T181324Z
UID:5914-1679097600-1679183999@volleybaldalen.nl
SUMMARY:Mini Toernooi
DESCRIPTION:
URL:https://volleybaldalen.nl/agenda/mini-toernooi-2/
END:VEVENT
BEGIN:VEVENT
DTSTART;TZID=Europe/Amsterdam:20230102T170000
DTEND;TZID=Europe/Amsterdam:20230103T010000
DTSTAMP:20260423T030119
CREATED:20221101T173512Z
LAST-MODIFIED:20221101T173625Z
UID:5995-1672678800-1672707600@volleybaldalen.nl
SUMMARY:Halve finale PWZ 2022/2023
DESCRIPTION:
URL:https://volleybaldalen.nl/agenda/halve-finale-pwz-2022-2023/
END:VEVENT
BEGIN:VEVENT
DTSTART;TZID=Europe/Amsterdam:20221230T170000
DTEND;TZID=Europe/Amsterdam:20221231T010000
DTSTAMP:20260423T030119
CREATED:20221101T173426Z
LAST-MODIFIED:20221101T173426Z
UID:5993-1672419600-1672448400@volleybaldalen.nl
SUMMARY:Kwartfinale PWZ 2022/2023
DESCRIPTION:
URL:https://volleybaldalen.nl/agenda/kwartfinale-pwz-2022-2023/
LOCATION:Sporthal Sportpark ’t Grootveld\, Dalerveensestraat 30b\, Dalen\, Drenthe\, 7751ZT\, Nederland
END:VEVENT
BEGIN:VEVENT
DTSTART;TZID=Europe/Amsterdam:20221227T170000
DTEND;TZID=Europe/Amsterdam:20221228T010000
DTSTAMP:20260423T030119
CREATED:20221101T173347Z
LAST-MODIFIED:20221101T173347Z
UID:5991-1672160400-1672189200@volleybaldalen.nl
SUMMARY:Voorronde PWZ 2022/2023
DESCRIPTION:
URL:https://volleybaldalen.nl/agenda/voorronde-pwz-2022-2023/
LOCATION:Sporthal Sportpark ’t Grootveld\, Dalerveensestraat 30b\, Dalen\, Drenthe\, 7751ZT\, Nederland
END:VEVENT
BEGIN:VEVENT
DTSTART;TZID=Europe/Amsterdam:20221223T200000
DTEND;TZID=Europe/Amsterdam:20221223T220000
DTSTAMP:20260423T030119
CREATED:20220913T181527Z
LAST-MODIFIED:20221214T184620Z
UID:5920-1671825600-1671832800@volleybaldalen.nl
SUMMARY:Oliebollen Toernooi 2023
DESCRIPTION:
URL:https://volleybaldalen.nl/agenda/oliebollen-toernooi-2023/
LOCATION:Sporthal Sportpark ’t Grootveld\, Dalerveensestraat 30b\, Dalen\, Drenthe\, 7751ZT\, Nederland
END:VEVENT
BEGIN:VEVENT
DTSTART;TZID=Europe/Amsterdam:20221223T080000
DTEND;TZID=Europe/Amsterdam:20221223T170000
DTSTAMP:20260423T030119
CREATED:20221101T173708Z
LAST-MODIFIED:20221101T173708Z
UID:5997-1671782400-1671814800@volleybaldalen.nl
SUMMARY:Ouder en Kind Toernooi 2022
DESCRIPTION:
URL:https://volleybaldalen.nl/agenda/ouder-en-kind-toernooi-2022/
LOCATION:Sporthal Sportpark ’t Grootveld\, Dalerveensestraat 30b\, Dalen\, Drenthe\, 7751ZT\, Nederland
END:VEVENT
BEGIN:VEVENT
DTSTART;TZID=Europe/Amsterdam:20221210T203000
DTEND;TZID=Europe/Amsterdam:20221210T235900
DTSTAMP:20260423T030119
CREATED:20221208T213058Z
LAST-MODIFIED:20221208T213058Z
UID:6038-1670704200-1670716740@volleybaldalen.nl
SUMMARY:Mid-Season Volley-Feest
DESCRIPTION:
URL:https://volleybaldalen.nl/agenda/mid-season-volley-feest/
LOCATION:Sporthal Sportpark ’t Grootveld\, Dalerveensestraat 30b\, Dalen\, Drenthe\, 7751ZT\, Nederland
END:VEVENT
BEGIN:VEVENT
DTSTART;VALUE=DATE:20221210
DTEND;VALUE=DATE:20221211
DTSTAMP:20260423T030119
CREATED:20220913T181303Z
LAST-MODIFIED:20220913T181303Z
UID:5912-1670630400-1670716799@volleybaldalen.nl
SUMMARY:Mini Toernooi
DESCRIPTION:
URL:https://volleybaldalen.nl/agenda/mini-toernooi/
END:VEVENT
BEGIN:VEVENT
DTSTART;TZID=Europe/Amsterdam:20221202T163000
DTEND;TZID=Europe/Amsterdam:20221202T180000
DTSTAMP:20260423T030119
CREATED:20221101T173816Z
LAST-MODIFIED:20221101T173816Z
UID:5999-1669998600-1670004000@volleybaldalen.nl
SUMMARY:Pietentraining 2022
DESCRIPTION:voor mini 2/4
URL:https://volleybaldalen.nl/agenda/pietentraining-2022/
LOCATION:Sporthal Sportpark ’t Grootveld\, Dalerveensestraat 30b\, Dalen\, Drenthe\, 7751ZT\, Nederland
END:VEVENT
BEGIN:VEVENT
DTSTART;VALUE=DATE:20221110
DTEND;VALUE=DATE:20221111
DTSTAMP:20260423T030119
CREATED:20220927T102437Z
LAST-MODIFIED:20220927T102437Z
UID:5938-1668038400-1668124799@volleybaldalen.nl
SUMMARY:Binnenschoolse sportclinics 2022
DESCRIPTION:
URL:https://volleybaldalen.nl/agenda/binnenschoolse-sportclinics-2022-3/
END:VEVENT
BEGIN:VEVENT
DTSTART;VALUE=DATE:20221103
DTEND;VALUE=DATE:20221104
DTSTAMP:20260423T030119
CREATED:20220927T102421Z
LAST-MODIFIED:20220927T102421Z
UID:5936-1667433600-1667519999@volleybaldalen.nl
SUMMARY:Binnenschoolse sportclinics 2022
DESCRIPTION:
URL:https://volleybaldalen.nl/agenda/binnenschoolse-sportclinics-2022-2/
END:VEVENT
BEGIN:VEVENT
DTSTART;TZID=Europe/Amsterdam:20221101T193000
DTEND;TZID=Europe/Amsterdam:20221101T210000
DTSTAMP:20260423T030119
CREATED:20220927T102533Z
LAST-MODIFIED:20221030T123113Z
UID:5940-1667331000-1667336400@volleybaldalen.nl
SUMMARY:ALV seizoen 2021 - 2022
DESCRIPTION:Dinsdag 1 november vind de jaarlijkse ALV plaats in de kantine op ‘t Grootveld start rond 19:30 uur. \nAgenda \n\nOpening\nMededelingen\nTerugblik seizoen ’21-‘22\nNotulen ALV 2021\nJaarverslag 2021-2022\nFinanciën: realisatie & begroting\nBestuurswissel\nRondvraag\nSluiting\n\n 
URL:https://volleybaldalen.nl/agenda/alv-seizoen-2021-2022/
LOCATION:Sporthal Sportpark ’t Grootveld\, Dalerveensestraat 30b\, Dalen\, Drenthe\, 7751ZT\, Nederland
END:VEVENT
BEGIN:VEVENT
DTSTART;VALUE=DATE:20221027
DTEND;VALUE=DATE:20221028
DTSTAMP:20260423T030119
CREATED:20220927T102359Z
LAST-MODIFIED:20220927T102359Z
UID:5934-1666828800-1666915199@volleybaldalen.nl
SUMMARY:Binnenschoolse sportclinics 2022
DESCRIPTION:
URL:https://volleybaldalen.nl/agenda/binnenschoolse-sportclinics-2022/
END:VEVENT
BEGIN:VEVENT
DTSTART;TZID=Europe/Amsterdam:20221022T120000
DTEND;TZID=Europe/Amsterdam:20221022T233000
DTSTAMP:20260423T030119
CREATED:20220908T200101Z
LAST-MODIFIED:20220908T201117Z
UID:5889-1666440000-1666481400@volleybaldalen.nl
SUMMARY:VolleyFuif 2022
DESCRIPTION:Leuke activiteitenmiddag met de kids en/of zin om gezellig een avondje te volleyballen met familie\, vrienden\, buren en/of collega’s? \nVolleybalvereniging Dalen wil meer zijn dan alleen een sportclub en draagt graag bij aan de saamhorigheid in en rondom Dalen. Daarom organiseren wij op zaterdag 22 oktober VOLLEYFUIF 2022! \nEen héle dag volleybalplezier voor jong en oud waarbij je geen lid hoeft te zijn van de vereniging om mee te mogen doen. \nDeze dag zal van start gaan om 12.00 uur met diverse activiteiten voor de jeugd t/m 16jr. Vriendjes\, vriendinnetjes\, neefjes\, nichtjes\, buurjongens\, buurmeisjes\, iedereen is welkom! En dat\, hélemaal gratis 😮 \n‘S middags vanaf 17.00 uur start het 4×4 volleybaltoernooi! Met wie ga jij voor voor de winst? 🙂 \nNa afloop van het toernooi is het tijd voor drankjes en dansjes en zal een feestje zeker niet ontbreken !  Voor ieder wat wils op sportpark ‘t Grootveld!
URL:https://volleybaldalen.nl/agenda/volleyfuif-2022/
END:VEVENT
BEGIN:VEVENT
DTSTART;VALUE=DATE:20221001
DTEND;VALUE=DATE:20221010
DTSTAMP:20260423T030119
CREATED:20220915T173616Z
LAST-MODIFIED:20220915T173616Z
UID:5922-1664582400-1665359999@volleybaldalen.nl
SUMMARY:Week van de scheidsrechter
DESCRIPTION:Zonder scheids geen wedstrijd! In de jaarlijks in oktober terugkerende Week van de Scheidsrechter geven we onze scheidsrechters de waardering die ze verdienen. \n\nAls bond roepen we onze clubs en leden nadrukkelijk op hun officials tijdens die week in het zonnetje te zetten. Zo’n blijk van waardering geeft extra motivatie en energie én kan leden die nog niet fluiten een zetje geven richting een beginnerscursus. Goede redenen om mee te doen dus! Wil je jullie officials én club een groter podium geven\, dan deel je jullie acties tijdens de week op social media met #scheidsbedankt en #volleyscheids. \nBron: Nevobo
URL:https://volleybaldalen.nl/agenda/week-van-de-scheidsrechter/
END:VEVENT
BEGIN:VEVENT
DTSTART;VALUE=DATE:20220916
DTEND;VALUE=DATE:20220926
DTSTAMP:20260423T030119
CREATED:20220913T180711Z
LAST-MODIFIED:20220913T180711Z
UID:5905-1663286400-1664150399@volleybaldalen.nl
SUMMARY:Nationale Sportweek 2022
DESCRIPTION:Van 16 september tot en met 25 september is de Nationale Sportweek in de gemeente Coevorden. Sporten is natuurlijk gezond voor iedereen en daarom nog leuker om het vrijblijvend is een keer te proberen. Zie de flyer voor meer informatie! \n\n\n#nationalesportweek #gemeentecoevorden
URL:https://volleybaldalen.nl/agenda/nationale-sportweek-2022/
END:VEVENT
END:VCALENDAR