BEGIN:VCALENDAR
VERSION:2.0
PRODID:-//Volleybalvereniging Dalen - ECPv6.15.16//NONSGML v1.0//EN
CALSCALE:GREGORIAN
METHOD:PUBLISH
X-WR-CALNAME:Volleybalvereniging Dalen
X-ORIGINAL-URL:https://volleybaldalen.nl
X-WR-CALDESC:Evenementen voor Volleybalvereniging Dalen
REFRESH-INTERVAL;VALUE=DURATION:PT1H
X-Robots-Tag:noindex
X-PUBLISHED-TTL:PT1H
BEGIN:VTIMEZONE
TZID:Europe/Amsterdam
BEGIN:DAYLIGHT
TZOFFSETFROM:+0100
TZOFFSETTO:+0200
TZNAME:CEST
DTSTART:20220327T010000
END:DAYLIGHT
BEGIN:STANDARD
TZOFFSETFROM:+0200
TZOFFSETTO:+0100
TZNAME:CET
DTSTART:20221030T010000
END:STANDARD
BEGIN:DAYLIGHT
TZOFFSETFROM:+0100
TZOFFSETTO:+0200
TZNAME:CEST
DTSTART:20230326T010000
END:DAYLIGHT
BEGIN:STANDARD
TZOFFSETFROM:+0200
TZOFFSETTO:+0100
TZNAME:CET
DTSTART:20231029T010000
END:STANDARD
BEGIN:DAYLIGHT
TZOFFSETFROM:+0100
TZOFFSETTO:+0200
TZNAME:CEST
DTSTART:20240331T010000
END:DAYLIGHT
BEGIN:STANDARD
TZOFFSETFROM:+0200
TZOFFSETTO:+0100
TZNAME:CET
DTSTART:20241027T010000
END:STANDARD
BEGIN:DAYLIGHT
TZOFFSETFROM:+0100
TZOFFSETTO:+0200
TZNAME:CEST
DTSTART:20250330T010000
END:DAYLIGHT
BEGIN:STANDARD
TZOFFSETFROM:+0200
TZOFFSETTO:+0100
TZNAME:CET
DTSTART:20251026T010000
END:STANDARD
END:VTIMEZONE
BEGIN:VEVENT
DTSTART;VALUE=DATE:20240406
DTEND;VALUE=DATE:20240407
DTSTAMP:20260423T133053
CREATED:20230629T073409Z
LAST-MODIFIED:20230721T095608Z
UID:6471-1712361600-1712447999@volleybaldalen.nl
SUMMARY:Mini toernooi
DESCRIPTION:
URL:https://volleybaldalen.nl/agenda/mini-toernooi-4/
LOCATION:Sporthal Sportpark ’t Grootveld\, Dalerveensestraat 30b\, Dalen\, Drenthe\, 7751ZT\, Nederland
END:VEVENT
BEGIN:VEVENT
DTSTART;TZID=Europe/Amsterdam:20240223T183000
DTEND;TZID=Europe/Amsterdam:20240223T220000
DTSTAMP:20260423T133053
CREATED:20240202T084605Z
LAST-MODIFIED:20240202T084633Z
UID:6982-1708713000-1708725600@volleybaldalen.nl
SUMMARY:Blacklight Volleybaltoernooi
DESCRIPTION:In samenwerking met Volleybalvereniging Dalen organiseren wij vanuit Buurtsportcoaches Gezond Coevorden tijdens de voorjaarsvakantie een blacklight volleybaltoernooi. Het toernooi wordt georganiseerd op vrijdag 23 februari in sporthal ‘t Grootveld te Dalen. Elk team speelt met 6 veldspeler en de minimale leeftijd om deel te nemen is 16 jaar. Vanaf 18.30 uur is de sporthal geopend\, waarna wij om 19.00 uur met de eerste wedstrijden starten. Rond 21.30 verwachten wij klaar te zijn met de wedstrijden\, waarna er aansluitend de mogelijkheid is om gezellig af te sluiten in de kantine van het ’t Grootveld. \nOm jullie alvast enthousiast te maken is hier een voorbeeld van een blacklight volleybaltoernooi: \n \nNa de aanmelding ontvangen de deelnemers het wedstrijdschema samen met de benodigde informatie via de mail. \nWij hopen er samen een geslaagde en gezellige avond van te maken\, dus meld je snel aan\, via: https://www.actiefincoevorden.nl/activiteit/blacklight-volleybaltoernooi/
URL:https://volleybaldalen.nl/agenda/blacklight-volleybaltoernooi/
LOCATION:Sporthal Sportpark ’t Grootveld\, Dalerveensestraat 30b\, Dalen\, Drenthe\, 7751ZT\, Nederland
END:VEVENT
BEGIN:VEVENT
DTSTART;TZID=Europe/Amsterdam:20240126T090000
DTEND;TZID=Europe/Amsterdam:20240126T120000
DTSTAMP:20260423T133053
CREATED:20231118T141842Z
LAST-MODIFIED:20231118T141842Z
UID:6861-1706259600-1706270400@volleybaldalen.nl
SUMMARY:Binnenschoolse Sportclincs
DESCRIPTION:
URL:https://volleybaldalen.nl/agenda/binnenschoolse-sportclincs-5/
LOCATION:Sporthal Sportpark ’t Grootveld\, Dalerveensestraat 30b\, Dalen\, Drenthe\, 7751ZT\, Nederland
END:VEVENT
BEGIN:VEVENT
DTSTART;TZID=Europe/Amsterdam:20240125T090000
DTEND;TZID=Europe/Amsterdam:20240125T120000
DTSTAMP:20260423T133053
CREATED:20231118T141818Z
LAST-MODIFIED:20231118T141818Z
UID:6859-1706173200-1706184000@volleybaldalen.nl
SUMMARY:Binnenschoolse Sportclincs
DESCRIPTION:
URL:https://volleybaldalen.nl/agenda/binnenschoolse-sportclincs-4/
LOCATION:Sporthal Sportpark ’t Grootveld\, Dalerveensestraat 30b\, Dalen\, Drenthe\, 7751ZT\, Nederland
END:VEVENT
BEGIN:VEVENT
DTSTART;TZID=Europe/Amsterdam:20240119T090000
DTEND;TZID=Europe/Amsterdam:20240119T120000
DTSTAMP:20260423T133053
CREATED:20231118T141748Z
LAST-MODIFIED:20231118T141748Z
UID:6857-1705654800-1705665600@volleybaldalen.nl
SUMMARY:Binnenschoolse Sportclincs
DESCRIPTION:
URL:https://volleybaldalen.nl/agenda/binnenschoolse-sportclincs-3/
LOCATION:Sporthal Sportpark ’t Grootveld\, Dalerveensestraat 30b\, Dalen\, Drenthe\, 7751ZT\, Nederland
END:VEVENT
BEGIN:VEVENT
DTSTART;TZID=Europe/Amsterdam:20240118T090000
DTEND;TZID=Europe/Amsterdam:20240118T120000
DTSTAMP:20260423T133053
CREATED:20231118T141722Z
LAST-MODIFIED:20231118T141722Z
UID:6855-1705568400-1705579200@volleybaldalen.nl
SUMMARY:Binnenschoolse Sportclincs
DESCRIPTION:
URL:https://volleybaldalen.nl/agenda/binnenschoolse-sportclincs-2/
LOCATION:Sporthal Sportpark ’t Grootveld\, Dalerveensestraat 30b\, Dalen\, Drenthe\, 7751ZT\, Nederland
END:VEVENT
BEGIN:VEVENT
DTSTART;TZID=Europe/Amsterdam:20240112T090000
DTEND;TZID=Europe/Amsterdam:20240112T120000
DTSTAMP:20260423T133053
CREATED:20231118T141654Z
LAST-MODIFIED:20231118T141654Z
UID:6853-1705050000-1705060800@volleybaldalen.nl
SUMMARY:Binnenschoolse Sportclincs
DESCRIPTION:
URL:https://volleybaldalen.nl/agenda/binnenschoolse-sportclincs/
LOCATION:Sporthal Sportpark ’t Grootveld\, Dalerveensestraat 30b\, Dalen\, Drenthe\, 7751ZT\, Nederland
END:VEVENT
BEGIN:VEVENT
DTSTART;TZID=Europe/Amsterdam:20240111T090000
DTEND;TZID=Europe/Amsterdam:20240111T120000
DTSTAMP:20260423T133053
CREATED:20231118T141542Z
LAST-MODIFIED:20231118T141542Z
UID:6851-1704963600-1704974400@volleybaldalen.nl
SUMMARY:Binnenschoolse Sportclinics
DESCRIPTION:
URL:https://volleybaldalen.nl/agenda/binnenschoolse-sportclinics/
LOCATION:Sporthal Sportpark ’t Grootveld\, Dalerveensestraat 30b\, Dalen\, Drenthe\, 7751ZT\, Nederland
END:VEVENT
BEGIN:VEVENT
DTSTART;TZID=Europe/Amsterdam:20240105T170000
DTEND;TZID=Europe/Amsterdam:20240105T220000
DTSTAMP:20260423T133053
CREATED:20230926T125216Z
LAST-MODIFIED:20231216T102405Z
UID:6572-1704474000-1704492000@volleybaldalen.nl
SUMMARY:Oliebollen- & ouder/kind toernooi
DESCRIPTION:Oliebollentoernooi op 5 januari 2024!  Alle senioren\, recreanten en de C’s van de Volleybalvereniging Dalen zijn weer van harte welkom op het jaarlijkse oliebollentoernooi. Vanaf 19:30 uur starten we in verschillende teams en spelen we 4×4 wedstrijden tegen elkaar. Dit alles natuurlijk onder het genot van een lekkere oliebol en een rolletje met slagroom. Mis deze gezellige avond niet en geef je snel op! 🏐🎉🥂
URL:https://volleybaldalen.nl/agenda/oliebollen-ouder-kind-toernooi/
LOCATION:Sporthal Sportpark ’t Grootveld\, Dalerveensestraat 30b\, Dalen\, Drenthe\, 7751ZT\, Nederland
END:VEVENT
BEGIN:VEVENT
DTSTART;TZID=Europe/Amsterdam:20231230T160000
DTEND;TZID=Europe/Amsterdam:20231230T235900
DTSTAMP:20260423T133053
CREATED:20231016T205719Z
LAST-MODIFIED:20231016T205719Z
UID:6686-1703952000-1703980740@volleybaldalen.nl
SUMMARY:Halve finale Protos Weering Zaalvoetbaltoernooi 2023/2024
DESCRIPTION:
URL:https://volleybaldalen.nl/agenda/halve-finale-protos-weering-zaalvoetbaltoernooi-2023-2024/
LOCATION:Drenthe
END:VEVENT
BEGIN:VEVENT
DTSTART;TZID=Europe/Amsterdam:20231227T160000
DTEND;TZID=Europe/Amsterdam:20231227T235900
DTSTAMP:20260423T133053
CREATED:20231016T205640Z
LAST-MODIFIED:20231016T205640Z
UID:6684-1703692800-1703721540@volleybaldalen.nl
SUMMARY:Kwartfinale Protos Weering Zaalvoetbaltoernooi 2023/2024
DESCRIPTION:
URL:https://volleybaldalen.nl/agenda/kwartfinale-protos-weering-zaalvoetbaltoernooi-2023-2024/
LOCATION:Drenthe
END:VEVENT
BEGIN:VEVENT
DTSTART;TZID=Europe/Amsterdam:20231223T160000
DTEND;TZID=Europe/Amsterdam:20231223T235900
DTSTAMP:20260423T133053
CREATED:20231016T205558Z
LAST-MODIFIED:20231016T205558Z
UID:6682-1703347200-1703375940@volleybaldalen.nl
SUMMARY:Voorronde Protos Weering Zaalvoetbaltoernooi 2023/2024
DESCRIPTION:
URL:https://volleybaldalen.nl/agenda/voorronde-protos-weering-zaalvoetbaltoernooi-2023-2024/
LOCATION:Drenthe
END:VEVENT
BEGIN:VEVENT
DTSTART;VALUE=DATE:20231201
DTEND;VALUE=DATE:20231202
DTSTAMP:20260423T133053
CREATED:20231011T182023Z
LAST-MODIFIED:20231011T182023Z
UID:6595-1701388800-1701475199@volleybaldalen.nl
SUMMARY:Pietentraining 2023
DESCRIPTION:
URL:https://volleybaldalen.nl/agenda/pietentraining-2023/
LOCATION:Drenthe
END:VEVENT
BEGIN:VEVENT
DTSTART;VALUE=DATE:20231125
DTEND;VALUE=DATE:20231126
DTSTAMP:20260423T133053
CREATED:20230629T073329Z
LAST-MODIFIED:20230629T073329Z
UID:6469-1700870400-1700956799@volleybaldalen.nl
SUMMARY:Mini toernooi
DESCRIPTION:
URL:https://volleybaldalen.nl/agenda/mini-toernooi-3/
LOCATION:Sporthal Sportpark ’t Grootveld\, Dalerveensestraat 30b\, Dalen\, Drenthe\, 7751ZT\, Nederland
END:VEVENT
BEGIN:VEVENT
DTSTART;TZID=Europe/Amsterdam:20231121T193000
DTEND;TZID=Europe/Amsterdam:20231121T213000
DTSTAMP:20260423T133053
CREATED:20230926T125326Z
LAST-MODIFIED:20231001T192636Z
UID:6574-1700595000-1700602200@volleybaldalen.nl
SUMMARY:Algemene Leden Vergaderin seizoen 2022 - 2023
DESCRIPTION:
URL:https://volleybaldalen.nl/agenda/algemene-leden-vergaderin-seizoen-2022-2023/
LOCATION:Restaurant De Baander\, Hoofdstraat 23\, Dalen\, Drenthe\, 7751 GA\, Nederland
END:VEVENT
BEGIN:VEVENT
DTSTART;TZID=Europe/Amsterdam:20231028T130000
DTEND;TZID=Europe/Amsterdam:20231029T010000
DTSTAMP:20260423T133053
CREATED:20221101T173052Z
LAST-MODIFIED:20230719T192640Z
UID:5988-1698498000-1698541200@volleybaldalen.nl
SUMMARY:VolleyFuif 2023
DESCRIPTION:Save The Date zaterdag 28 oktober 2023 vind de derde editie van de volleyfuif plaats
URL:https://volleybaldalen.nl/agenda/volleyfuif-2023/
LOCATION:Sporthal Sportpark ’t Grootveld\, Dalerveensestraat 30b\, Dalen\, Drenthe\, 7751ZT\, Nederland
END:VEVENT
BEGIN:VEVENT
DTSTART;VALUE=DATE:20230930
DTEND;VALUE=DATE:20231009
DTSTAMP:20260423T133053
CREATED:20230930T100213Z
LAST-MODIFIED:20230930T100253Z
UID:6580-1696032000-1696809599@volleybaldalen.nl
SUMMARY:Week van de Scheidsrechter
DESCRIPTION:De Week van de Scheidsrechter 2023 staat voor de deur. Activeer jullie leden om de scheidsrechter in het zonnetje te zetten\, want zonder scheidsrechter\, geen wedstrijd!
URL:https://volleybaldalen.nl/agenda/week-van-de-scheidsrechter-2/
LOCATION:Drenthe
END:VEVENT
BEGIN:VEVENT
DTSTART;VALUE=DATE:20230930
DTEND;VALUE=DATE:20231001
DTSTAMP:20260423T133053
CREATED:20230721T095652Z
LAST-MODIFIED:20230924T092447Z
UID:6480-1696032000-1696118399@volleybaldalen.nl
SUMMARY:Presentatie wedstrijdkleding
DESCRIPTION:30 september is het weer zover\nwij als volleybalvereniging Dalen spelen dan weer onze eerste thuiswedstrijden in de sporthal ‘T Grootveld in Dalen.\nKom jij ook gezellig kijken bij onze top teams?!\npsssstt… de kantine is ook open voor drinken en wat te eten.\nDeze dag zal er ook een sponsordag zijn voor al onze sponsoren van de volleybalvereniging Dalen dus de sporthal en de kantine zijn ook fantastich aangekleed met versiering.\n\n\nVoor onze sponsoren hebben we een presentje en voor hun staat er ook een hapje en een drankje klaar\n\n\nWe kijken als Volleybalvereniging Dalen erg naar dit seizoen uit!
URL:https://volleybaldalen.nl/agenda/presentatie-wedstrijdkleding/
LOCATION:Drenthe
END:VEVENT
BEGIN:VEVENT
DTSTART;VALUE=DATE:20230915
DTEND;VALUE=DATE:20230925
DTSTAMP:20260423T133053
CREATED:20230207T193910Z
LAST-MODIFIED:20230207T193910Z
UID:6117-1694736000-1695599999@volleybaldalen.nl
SUMMARY:NOC*NSF Nationale Sportweek 2023
DESCRIPTION:
URL:https://volleybaldalen.nl/agenda/nocnsf-nationale-sportweek-2023/
LOCATION:Drenthe
END:VEVENT
BEGIN:VEVENT
DTSTART;VALUE=DATE:20230904
DTEND;VALUE=DATE:20230927
DTSTAMP:20260423T133053
CREATED:20230725T182315Z
LAST-MODIFIED:20230725T182315Z
UID:6485-1693785600-1695772799@volleybaldalen.nl
SUMMARY:Rabo ClubSupport 2023
DESCRIPTION:Vanaf 4 september is het weer zover en kunnen de leden van de Rabobank weer stemmen tot en met 26 september. Met de Rabo Clubsupport kun je eenmalig je stem uitbrengen\, maar moet je wel lid worden/zijn van de Rabobank.\n\n \n\nHoe wordt je nou lid?\n\n \n\n– Als klant van de Rabobank kun je gratis lid worden en dit kan gemakkelijk via de Rabobank app.\n– Op de app inloggen\, dan ga je naar service.\n– Scroll naar onderen en staat lidmaatschap. Daar klik je op en dan op ik doe mee! Zo kun je stemmen\, maar ook allemaal andere leuke kortingen krijgen via de Rabobank.\n\n \n\nVoor de Volleybal Vereniging willen wij het liefst zoveel mogelijk stemmen verzamelen en daarmee mooie dingen doen binnen de vereniging.\n\n \n\nDenk hierbij bijvoorbeeld aan:\n– Diverse activiteiten voor zowel senioren als mini’s.\n– Aanschaf extra materialen.\n\n \n\nDus word lid en stem vanaf 4 september op Volleybal Vereniging Dalen via de Rabo App of raboclubsupport.nl!\n\n \n\nhttps://www.youtube.com/watch?v=hEWT80qC8TI&ab_channel=Rabobank
URL:https://volleybaldalen.nl/agenda/rabo-clubsupport-2023/
LOCATION:Online
END:VEVENT
BEGIN:VEVENT
DTSTART;TZID=Europe/Amsterdam:20230623T163000
DTEND;TZID=Europe/Amsterdam:20230623T193000
DTSTAMP:20260423T133053
CREATED:20230518T074318Z
LAST-MODIFIED:20230518T074318Z
UID:6410-1687537800-1687548600@volleybaldalen.nl
SUMMARY:Inlooptraining Volleybalvereniging Dalen
DESCRIPTION:Wil je ook volleyballen bij een actieve sportvereniging waar veel voor jeugd georganiseerd wordt? \nKom het spelletje vooral ervaren tijdens de inlooptrainingen van Volleybalvereniging Dalen. \nHopelijk tot snel! \n16:30 t/m 17:30:  groep 2 t/m 5 zaal 3\n18:00 t/m 19:30: vanaf groep 6 zaal 3 \nLocatie: Sportpark t’ Grootveld
URL:https://volleybaldalen.nl/agenda/inlooptraining-volleybalvereniging-dalen-5/
LOCATION:Sporthal Sportpark ’t Grootveld\, Dalerveensestraat 30b\, Dalen\, Drenthe\, 7751ZT\, Nederland
END:VEVENT
BEGIN:VEVENT
DTSTART;TZID=Europe/Amsterdam:20230616T163000
DTEND;TZID=Europe/Amsterdam:20230616T193000
DTSTAMP:20260423T133053
CREATED:20230518T074233Z
LAST-MODIFIED:20230518T074233Z
UID:6409-1686933000-1686943800@volleybaldalen.nl
SUMMARY:Inlooptraining Volleybalvereniging Dalen
DESCRIPTION:Wil je ook volleyballen bij een actieve sportvereniging waar veel voor jeugd georganiseerd wordt? \nKom het spelletje vooral ervaren tijdens de inlooptrainingen van Volleybalvereniging Dalen. \nHopelijk tot snel! \n16:30 t/m 17:30:  groep 2 t/m 5 zaal 3\n18:00 t/m 19:30: vanaf groep 6 zaal 3 \nLocatie: Sportpark t’ Grootveld
URL:https://volleybaldalen.nl/agenda/inlooptraining-volleybalvereniging-dalen-4/
LOCATION:Sporthal Sportpark ’t Grootveld\, Dalerveensestraat 30b\, Dalen\, Drenthe\, 7751ZT\, Nederland
END:VEVENT
BEGIN:VEVENT
DTSTART;TZID=Europe/Amsterdam:20230610T123000
DTEND;TZID=Europe/Amsterdam:20230610T220000
DTSTAMP:20260423T133053
CREATED:20230414T070012Z
LAST-MODIFIED:20230414T070357Z
UID:5932-1686400200-1686434400@volleybaldalen.nl
SUMMARY:Opening Beachvelden 10 juni 2023
DESCRIPTION:
URL:https://volleybaldalen.nl/agenda/opening-beachvelden-2023/
LOCATION:Sporthal Sportpark ’t Grootveld\, Dalerveensestraat 30b\, Dalen\, Drenthe\, 7751ZT\, Nederland
END:VEVENT
BEGIN:VEVENT
DTSTART;TZID=Europe/Amsterdam:20230609T163000
DTEND;TZID=Europe/Amsterdam:20230609T193000
DTSTAMP:20260423T133053
CREATED:20230518T074125Z
LAST-MODIFIED:20230518T074125Z
UID:6406-1686328200-1686339000@volleybaldalen.nl
SUMMARY:Inlooptraining Volleybalvereniging Dalen
DESCRIPTION:Wil je ook volleyballen bij een actieve sportvereniging waar veel voor jeugd georganiseerd wordt? \nKom het spelletje vooral ervaren tijdens de inlooptrainingen van Volleybalvereniging Dalen. \nHopelijk tot snel! \n16:30 t/m 17:30:  groep 2 t/m 5 zaal 3\n18:00 t/m 19:30: vanaf groep 6 zaal 3 \nLocatie: Sportpark t’ Grootveld
URL:https://volleybaldalen.nl/agenda/inlooptraining-volleybalvereniging-dalen-3/
LOCATION:Sporthal Sportpark ’t Grootveld\, Dalerveensestraat 30b\, Dalen\, Drenthe\, 7751ZT\, Nederland
END:VEVENT
BEGIN:VEVENT
DTSTART;TZID=Europe/Amsterdam:20230602T163000
DTEND;TZID=Europe/Amsterdam:20230602T193000
DTSTAMP:20260423T133053
CREATED:20230518T074118Z
LAST-MODIFIED:20230518T074118Z
UID:6405-1685723400-1685734200@volleybaldalen.nl
SUMMARY:Inlooptraining Volleybalvereniging Dalen
DESCRIPTION:Wil je ook volleyballen bij een actieve sportvereniging waar veel voor jeugd georganiseerd wordt? \nKom het spelletje vooral ervaren tijdens de inlooptrainingen van Volleybalvereniging Dalen. \nHopelijk tot snel! \n16:30 t/m 17:30:  groep 2 t/m 5 zaal 3\n18:00 t/m 19:30: vanaf groep 6 zaal 3 \nLocatie: Sportpark t’ Grootveld
URL:https://volleybaldalen.nl/agenda/inlooptraining-volleybalvereniging-dalen-2/
LOCATION:Sporthal Sportpark ’t Grootveld\, Dalerveensestraat 30b\, Dalen\, Drenthe\, 7751ZT\, Nederland
END:VEVENT
BEGIN:VEVENT
DTSTART;TZID=Europe/Amsterdam:20230528T090000
DTEND;TZID=Europe/Amsterdam:20230528T130000
DTSTAMP:20260423T133053
CREATED:20220913T181416Z
LAST-MODIFIED:20230519T080602Z
UID:5916-1685264400-1685278800@volleybaldalen.nl
SUMMARY:RopaRun 2023
DESCRIPTION:Op zondag 28 mei tussen 9.00 en 13.00 uur vindt de doorkomst van de RopaRun 2023 in Dalen plaats. En dit keer is de doorkomst op ons mooie sportpark. Diverse verenigingen zetten een activiteit neer om de doorkomst extra feestelijk en sportief te maken \nJe kunt op deze dag deelnemen aan de leuke sporten en spelletjes die door de verenigingen worden georganiseerd. Ook is er muziek\, kortom het belooft een leuke en sportieve ochtend te worden. \nMeer weten ? kijk op de site van: SamenDalen of de Turfrunners
URL:https://volleybaldalen.nl/agenda/roparun-2023/
LOCATION:Sporthal Sportpark ’t Grootveld\, Dalerveensestraat 30b\, Dalen\, Drenthe\, 7751ZT\, Nederland
END:VEVENT
BEGIN:VEVENT
DTSTART;TZID=Europe/Amsterdam:20230526T163000
DTEND;TZID=Europe/Amsterdam:20230526T193000
DTSTAMP:20260423T133053
CREATED:20230518T073658Z
LAST-MODIFIED:20230518T073838Z
UID:6400-1685118600-1685129400@volleybaldalen.nl
SUMMARY:Inlooptraining Volleybalvereniging Dalen
DESCRIPTION:Wil je ook volleyballen bij een actieve sportvereniging waar veel voor jeugd georganiseerd wordt? \nKom het spelletje vooral ervaren tijdens de inlooptrainingen van Volleybalvereniging Dalen. \nHopelijk tot snel! \n16:30 t/m 17:30:  groep 2 t/m 5 zaal 3\n18:00 t/m 19:30: vanaf groep 6 zaal 3 \nLocatie: Sportpark t’ Grootveld
URL:https://volleybaldalen.nl/agenda/inlooptraining-volleybalvereniging-dalen/
LOCATION:Sporthal Sportpark ’t Grootveld\, Dalerveensestraat 30b\, Dalen\, Drenthe\, 7751ZT\, Nederland
END:VEVENT
BEGIN:VEVENT
DTSTART;VALUE=DATE:20230512
DTEND;VALUE=DATE:20230514
DTSTAMP:20260423T133053
CREATED:20230308T175234Z
LAST-MODIFIED:20230414T070252Z
UID:6119-1683849600-1684022399@volleybaldalen.nl
SUMMARY:Volleybalkamp 2023
DESCRIPTION:Aan alle leden\, ouders en verzorgers van de mini’s en de C’s van Volleybalvereniging Dalen.\nHet is weer zover: VOLLEYBALKAMP !\n\nDit jaar organiseert de EC een volleybalkamp voor al hun mini’s en het C-team.\nHet belooft een leuk weekend te worden met leuke volleybalspellen\, lekker eten\, bingo en nog veel meer leuke activiteiten.\nDit jaar houden we het kamp op 12 en 13 mei.\n\nWij hebben er in ieder geval al veel zin in en hopen op een leuk weekend!
URL:https://volleybaldalen.nl/agenda/jeugdkamp-seizoen-2022-2023/
LOCATION:Sporthal Sportpark ’t Grootveld\, Dalerveensestraat 30b\, Dalen\, Drenthe\, 7751ZT\, Nederland
END:VEVENT
BEGIN:VEVENT
DTSTART;VALUE=DATE:20230421
DTEND;VALUE=DATE:20230422
DTSTAMP:20260423T133053
CREATED:20230207T193734Z
LAST-MODIFIED:20230207T193734Z
UID:6115-1682035200-1682121599@volleybaldalen.nl
SUMMARY:Koningsspelen 2023
DESCRIPTION:
URL:https://volleybaldalen.nl/agenda/koningsspelen-2023/
LOCATION:Drenthe
END:VEVENT
BEGIN:VEVENT
DTSTART;TZID=Europe/Amsterdam:20230418T180000
DTEND;TZID=Europe/Amsterdam:20230418T210000
DTSTAMP:20260423T133053
CREATED:20220913T181458Z
LAST-MODIFIED:20230404T172711Z
UID:5918-1681840800-1681851600@volleybaldalen.nl
SUMMARY:Stroopwafelactie 2023
DESCRIPTION:❗️Attentie Attentie ❗️ \nDinsdag 18 april 2023 is het weer zover\, de jaarlijkse stroopwafelactie van de Volleybalvereniging Dalen. 🏐\nDeze avond vanaf 18u komen de leden van de volleybal bij u langs in en rondom Dalen met overheerlijke stroopwafels (deurverkoop)! \n1 pakje voor €3\,-\, 2 pakjes voor €5\,50 en 4 voor €10\,-!🍪 \n💰 Contant- en pinbetalingen zijn mogelijk. \n 
URL:https://volleybaldalen.nl/agenda/stroopwafelactie-2023/
LOCATION:Drenthe
END:VEVENT
END:VCALENDAR