BEGIN:VCALENDAR
VERSION:2.0
PRODID:-//Volleybalvereniging Dalen - ECPv6.15.16//NONSGML v1.0//EN
CALSCALE:GREGORIAN
METHOD:PUBLISH
X-ORIGINAL-URL:https://volleybaldalen.nl
X-WR-CALDESC:Evenementen voor Volleybalvereniging Dalen
REFRESH-INTERVAL;VALUE=DURATION:PT1H
X-Robots-Tag:noindex
X-PUBLISHED-TTL:PT1H
BEGIN:VTIMEZONE
TZID:Europe/Amsterdam
BEGIN:DAYLIGHT
TZOFFSETFROM:+0100
TZOFFSETTO:+0200
TZNAME:CEST
DTSTART:20240331T010000
END:DAYLIGHT
BEGIN:STANDARD
TZOFFSETFROM:+0200
TZOFFSETTO:+0100
TZNAME:CET
DTSTART:20241027T010000
END:STANDARD
BEGIN:DAYLIGHT
TZOFFSETFROM:+0100
TZOFFSETTO:+0200
TZNAME:CEST
DTSTART:20250330T010000
END:DAYLIGHT
BEGIN:STANDARD
TZOFFSETFROM:+0200
TZOFFSETTO:+0100
TZNAME:CET
DTSTART:20251026T010000
END:STANDARD
BEGIN:DAYLIGHT
TZOFFSETFROM:+0100
TZOFFSETTO:+0200
TZNAME:CEST
DTSTART:20260329T010000
END:DAYLIGHT
BEGIN:STANDARD
TZOFFSETFROM:+0200
TZOFFSETTO:+0100
TZNAME:CET
DTSTART:20261025T010000
END:STANDARD
BEGIN:DAYLIGHT
TZOFFSETFROM:+0100
TZOFFSETTO:+0200
TZNAME:CEST
DTSTART:20270328T010000
END:DAYLIGHT
BEGIN:STANDARD
TZOFFSETFROM:+0200
TZOFFSETTO:+0100
TZNAME:CET
DTSTART:20271031T010000
END:STANDARD
END:VTIMEZONE
BEGIN:VEVENT
DTSTART;VALUE=DATE:20250915
DTEND;VALUE=DATE:20250920
DTSTAMP:20260423T081653
CREATED:20250831T075803Z
LAST-MODIFIED:20250831T075803Z
UID:7625-1757894400-1758326399@volleybaldalen.nl
SUMMARY:Wegwerkzaamheden rondom Sportpark 't Grootveld
DESCRIPTION:Op maandag 15 september start Fuhler Wegenbouw in opdracht van de gemeente Coevorden met werkzaamheden aan de Dalerveensestraat in Dalen. \nOm de verkeersveiligheid te verhogen worden de kruisingen Dalerveensestraat/Vliers\, Dalerveensestraat /Sportpark en Dalerveensestraat /’t Veld aangepast naar verhoogde kruisingsvlakken. \nOm de werkzaamheden zo efficiënt mogelijk uit te voeren worden alle kruisingen gelijktijdig afgesloten en aangepast. \n\nNaar verwachting zullen de werkzaamheden tot en met vrijdag 19 september duren. \nDe uitvoering geeft enige overlast voor aanwonenden en bezoekers van het sportpark. \nWoningen en het sportpark zijn tijdens de voorbereidende werkzaamheden (15-17 september) beperkt met de auto bereikbaar. \nTijdens de asfalt- en markeringswerkzaamheden (18+19 september) tussen 06:00 en 18:00 zijn de kruisingen gestremd voor alle verkeer. \nVoor het doorgaande verkeer wordt een omleidingsroute aangegeven middels bebording.
URL:https://volleybaldalen.nl/agenda/wegwerkzaamheden-rondom-sportpark-t-grootveld/
LOCATION:Sporthal Sportpark ’t Grootveld\, Dalerveensestraat 30b\, Dalen\, Drenthe\, 7751ZT\, Nederland
END:VEVENT
BEGIN:VEVENT
DTSTART;TZID=Europe/Amsterdam:20250919T200000
DTEND;TZID=Europe/Amsterdam:20250919T230000
DTSTAMP:20260423T081653
CREATED:20250802T192018Z
LAST-MODIFIED:20250802T192018Z
UID:7599-1758312000-1758322800@volleybaldalen.nl
SUMMARY:Seizoensopening 2025
DESCRIPTION:Uitnodiging Seizoensopening! 🍾\nBeste leden\,\nOp vrijdag 19 september luiden we het nieuwe seizoen feestelijk in met een gezellige avond in de kantine! 🥂\n🕗 Vanaf 20:00 uur ben je van harte welkom om samen met je teamgenoten een drankje te doen\, te genieten van gezellige muziek en een leuke activiteit.\n✨ Thema van de avond: FEEST….dus trek iets feestelijks aan en neem de gezelligheid mee🥳\n📸 Tijdens de avond maken we ook teamfoto’s\, dus zorg dat je erbij bent!\nOok onze sponsoren zijn van harte uitgenodigd om samen het seizoen te openen!\nLaten we er samen een fantastische start van maken. Tot dan!\nps. ook voor B en C jeugd leden \nSportieve groet\,\nde sponsorcommissie
URL:https://volleybaldalen.nl/agenda/seizoensopening-2025/
LOCATION:Sporthal Sportpark ’t Grootveld\, Dalerveensestraat 30b\, Dalen\, Drenthe\, 7751ZT\, Nederland
END:VEVENT
BEGIN:VEVENT
DTSTART;VALUE=DATE:20251018
DTEND;VALUE=DATE:20251019
DTSTAMP:20260423T081653
CREATED:20241126T200931Z
LAST-MODIFIED:20250903T165615Z
UID:7403-1760745600-1760831999@volleybaldalen.nl
SUMMARY:VolleyFuif 2025
DESCRIPTION:
URL:https://volleybaldalen.nl/agenda/volleyfuif-2025/
LOCATION:Sporthal Sportpark ’t Grootveld\, Dalerveensestraat 30b\, Dalen\, Drenthe\, 7751ZT\, Nederland
END:VEVENT
BEGIN:VEVENT
DTSTART;TZID=Europe/Amsterdam:20251128T130000
DTEND;TZID=Europe/Amsterdam:20251128T180000
DTSTAMP:20260423T081653
CREATED:20251006T160817Z
LAST-MODIFIED:20251006T160817Z
UID:7769-1764334800-1764352800@volleybaldalen.nl
SUMMARY:Pietentraining 2025
DESCRIPTION:
URL:https://volleybaldalen.nl/agenda/pietentraining-2025/
LOCATION:Sporthal Sportpark ’t Grootveld\, Dalerveensestraat 30b\, Dalen\, Drenthe\, 7751ZT\, Nederland
END:VEVENT
BEGIN:VEVENT
DTSTART;TZID=Europe/Amsterdam:20251220T180000
DTEND;TZID=Europe/Amsterdam:20251220T235900
DTSTAMP:20260423T081653
CREATED:20250324T162010Z
LAST-MODIFIED:20250324T162010Z
UID:7488-1766253600-1766275140@volleybaldalen.nl
SUMMARY:Voorronde Protos Weering Zaalvoetbaltoernooi 2025-2026
DESCRIPTION:
URL:https://volleybaldalen.nl/agenda/voorronde-protos-weering-zaalvoetbaltoernooi-2025-2026/
LOCATION:Sporthal Sportpark ’t Grootveld\, Dalerveensestraat 30b\, Dalen\, Drenthe\, 7751ZT\, Nederland
END:VEVENT
BEGIN:VEVENT
DTSTART;TZID=Europe/Amsterdam:20251223T180000
DTEND;TZID=Europe/Amsterdam:20251223T235900
DTSTAMP:20260423T081653
CREATED:20250324T162117Z
LAST-MODIFIED:20250324T162126Z
UID:7490-1766512800-1766534340@volleybaldalen.nl
SUMMARY:Kwart Finale Protos Weering Zaalvoetbaltoernooi 2025-2026
DESCRIPTION:
URL:https://volleybaldalen.nl/agenda/kwart-finale-protos-weering-zaalvoetbaltoernooi-2025-2026/
LOCATION:Sporthal Sportpark ’t Grootveld\, Dalerveensestraat 30b\, Dalen\, Drenthe\, 7751ZT\, Nederland
END:VEVENT
BEGIN:VEVENT
DTSTART;TZID=Europe/Amsterdam:20251227T180000
DTEND;TZID=Europe/Amsterdam:20251227T235900
DTSTAMP:20260423T081653
CREATED:20250324T162207Z
LAST-MODIFIED:20250324T162207Z
UID:7492-1766858400-1766879940@volleybaldalen.nl
SUMMARY:Halve Finale Protos Weering Zaalvoetbaltoernooi 2025-2026
DESCRIPTION:
URL:https://volleybaldalen.nl/agenda/halve-finale-protos-weering-zaalvoetbaltoernooi-2025-2026/
LOCATION:Sporthal Sportpark ’t Grootveld\, Dalerveensestraat 30b\, Dalen\, Drenthe\, 7751ZT\, Nederland
END:VEVENT
BEGIN:VEVENT
DTSTART;TZID=Europe/Amsterdam:20260102T180000
DTEND;TZID=Europe/Amsterdam:20260102T210000
DTSTAMP:20260423T081653
CREATED:20251006T160741Z
LAST-MODIFIED:20251006T160741Z
UID:7767-1767376800-1767387600@volleybaldalen.nl
SUMMARY:Oliebollentoernooi 2026
DESCRIPTION:
URL:https://volleybaldalen.nl/agenda/oliebollentoernooi-2026/
LOCATION:Sporthal Sportpark ’t Grootveld\, Dalerveensestraat 30b\, Dalen\, Drenthe\, 7751ZT\, Nederland
END:VEVENT
BEGIN:VEVENT
DTSTART;VALUE=DATE:20260411
DTEND;VALUE=DATE:20260412
DTSTAMP:20260423T081653
CREATED:20251006T160849Z
LAST-MODIFIED:20251006T160849Z
UID:7771-1775865600-1775951999@volleybaldalen.nl
SUMMARY:Seizoen afsluiting 2025-2026
DESCRIPTION:
URL:https://volleybaldalen.nl/agenda/seizoen-afsluiting-2025-2026/
LOCATION:Sporthal Sportpark ’t Grootveld\, Dalerveensestraat 30b\, Dalen\, Drenthe\, 7751ZT\, Nederland
END:VEVENT
BEGIN:VEVENT
DTSTART;TZID=Europe/Amsterdam:20260421T180000
DTEND;TZID=Europe/Amsterdam:20260421T210000
DTSTAMP:20260423T081653
CREATED:20251006T160702Z
LAST-MODIFIED:20251006T160702Z
UID:7765-1776794400-1776805200@volleybaldalen.nl
SUMMARY:Stroopwafelactie 2026
DESCRIPTION:
URL:https://volleybaldalen.nl/agenda/stroopwafelactie-2026/
LOCATION:Drenthe
END:VEVENT
BEGIN:VEVENT
DTSTART;VALUE=DATE:20260509
DTEND;VALUE=DATE:20260510
DTSTAMP:20260423T081653
CREATED:20251006T160623Z
LAST-MODIFIED:20251006T160623Z
UID:7763-1778284800-1778371199@volleybaldalen.nl
SUMMARY:Beachvolleybal Toernooi 2026
DESCRIPTION:
URL:https://volleybaldalen.nl/agenda/beachvolleybal-toernooi-2026/
LOCATION:Drenthe
END:VEVENT
BEGIN:VEVENT
DTSTART;VALUE=DATE:20260619
DTEND;VALUE=DATE:20260621
DTSTAMP:20260423T081653
CREATED:20251006T160544Z
LAST-MODIFIED:20251006T160544Z
UID:7761-1781827200-1781999999@volleybaldalen.nl
SUMMARY:Jeugdkamp 2025-2026
DESCRIPTION:
URL:https://volleybaldalen.nl/agenda/jeugdkamp-2025-2026/
LOCATION:Sporthal Sportpark ’t Grootveld\, Dalerveensestraat 30b\, Dalen\, Drenthe\, 7751ZT\, Nederland
END:VEVENT
BEGIN:VEVENT
DTSTART;VALUE=DATE:20261024
DTEND;VALUE=DATE:20261025
DTSTAMP:20260423T081653
CREATED:20241126T201412Z
LAST-MODIFIED:20241201T101945Z
UID:7409-1792800000-1792886399@volleybaldalen.nl
SUMMARY:VolleyFuif 2026
DESCRIPTION:
URL:https://volleybaldalen.nl/agenda/volleyfuif-2026/
LOCATION:Drenthe
END:VEVENT
END:VCALENDAR