BEGIN:VCALENDAR
VERSION:2.0
PRODID:-//Volleybalvereniging Dalen - ECPv6.15.16//NONSGML v1.0//EN
CALSCALE:GREGORIAN
METHOD:PUBLISH
X-WR-CALNAME:Volleybalvereniging Dalen
X-ORIGINAL-URL:https://volleybaldalen.nl
X-WR-CALDESC:Evenementen voor Volleybalvereniging Dalen
REFRESH-INTERVAL;VALUE=DURATION:PT1H
X-Robots-Tag:noindex
X-PUBLISHED-TTL:PT1H
BEGIN:VTIMEZONE
TZID:Europe/Amsterdam
BEGIN:DAYLIGHT
TZOFFSETFROM:+0100
TZOFFSETTO:+0200
TZNAME:CEST
DTSTART:20240331T010000
END:DAYLIGHT
BEGIN:STANDARD
TZOFFSETFROM:+0200
TZOFFSETTO:+0100
TZNAME:CET
DTSTART:20241027T010000
END:STANDARD
BEGIN:DAYLIGHT
TZOFFSETFROM:+0100
TZOFFSETTO:+0200
TZNAME:CEST
DTSTART:20250330T010000
END:DAYLIGHT
BEGIN:STANDARD
TZOFFSETFROM:+0200
TZOFFSETTO:+0100
TZNAME:CET
DTSTART:20251026T010000
END:STANDARD
BEGIN:DAYLIGHT
TZOFFSETFROM:+0100
TZOFFSETTO:+0200
TZNAME:CEST
DTSTART:20260329T010000
END:DAYLIGHT
BEGIN:STANDARD
TZOFFSETFROM:+0200
TZOFFSETTO:+0100
TZNAME:CET
DTSTART:20261025T010000
END:STANDARD
END:VTIMEZONE
BEGIN:VEVENT
DTSTART;VALUE=DATE:20250915
DTEND;VALUE=DATE:20250920
DTSTAMP:20260423T100053
CREATED:20250831T075803Z
LAST-MODIFIED:20250831T075803Z
UID:7625-1757894400-1758326399@volleybaldalen.nl
SUMMARY:Wegwerkzaamheden rondom Sportpark 't Grootveld
DESCRIPTION:Op maandag 15 september start Fuhler Wegenbouw in opdracht van de gemeente Coevorden met werkzaamheden aan de Dalerveensestraat in Dalen. \nOm de verkeersveiligheid te verhogen worden de kruisingen Dalerveensestraat/Vliers\, Dalerveensestraat /Sportpark en Dalerveensestraat /’t Veld aangepast naar verhoogde kruisingsvlakken. \nOm de werkzaamheden zo efficiënt mogelijk uit te voeren worden alle kruisingen gelijktijdig afgesloten en aangepast. \n\nNaar verwachting zullen de werkzaamheden tot en met vrijdag 19 september duren. \nDe uitvoering geeft enige overlast voor aanwonenden en bezoekers van het sportpark. \nWoningen en het sportpark zijn tijdens de voorbereidende werkzaamheden (15-17 september) beperkt met de auto bereikbaar. \nTijdens de asfalt- en markeringswerkzaamheden (18+19 september) tussen 06:00 en 18:00 zijn de kruisingen gestremd voor alle verkeer. \nVoor het doorgaande verkeer wordt een omleidingsroute aangegeven middels bebording.
URL:https://volleybaldalen.nl/agenda/wegwerkzaamheden-rondom-sportpark-t-grootveld/
LOCATION:Sporthal Sportpark ’t Grootveld\, Dalerveensestraat 30b\, Dalen\, Drenthe\, 7751ZT\, Nederland
END:VEVENT
BEGIN:VEVENT
DTSTART;TZID=Europe/Amsterdam:20250919T200000
DTEND;TZID=Europe/Amsterdam:20250919T230000
DTSTAMP:20260423T100053
CREATED:20250802T192018Z
LAST-MODIFIED:20250802T192018Z
UID:7599-1758312000-1758322800@volleybaldalen.nl
SUMMARY:Seizoensopening 2025
DESCRIPTION:Uitnodiging Seizoensopening! 🍾\nBeste leden\,\nOp vrijdag 19 september luiden we het nieuwe seizoen feestelijk in met een gezellige avond in de kantine! 🥂\n🕗 Vanaf 20:00 uur ben je van harte welkom om samen met je teamgenoten een drankje te doen\, te genieten van gezellige muziek en een leuke activiteit.\n✨ Thema van de avond: FEEST….dus trek iets feestelijks aan en neem de gezelligheid mee🥳\n📸 Tijdens de avond maken we ook teamfoto’s\, dus zorg dat je erbij bent!\nOok onze sponsoren zijn van harte uitgenodigd om samen het seizoen te openen!\nLaten we er samen een fantastische start van maken. Tot dan!\nps. ook voor B en C jeugd leden \nSportieve groet\,\nde sponsorcommissie
URL:https://volleybaldalen.nl/agenda/seizoensopening-2025/
LOCATION:Sporthal Sportpark ’t Grootveld\, Dalerveensestraat 30b\, Dalen\, Drenthe\, 7751ZT\, Nederland
END:VEVENT
END:VCALENDAR